BEGIN:VCALENDAR
VERSION:2.0
PRODID:-//evangelische-akademie.de/eaf calendar v1.0//DE
BEGIN:VEVENT
UID:019f8b946a256d9357eadc5ace2c8678@evangelische-akademie.de
ORGANIZER;CN=\"Claudia Mayer\":MAILTO:mayer@evangelische-akademie.de
LOCATION:Evangelische Akademie Frankfurt - Frankfurt am Main
DTSTAMP:20260424T165454Z
DTSTART:20250610T170000Z
DTEND:20250610T190000Z
SUMMARY:Der Gerechte aus Fulda
DESCRIPTION:Persönliche Hinterlassenschaften jüdischer Nachbar/innen
URL:https://www.evangelische-akademie.de/kalender/der-gerechte-aus-fulda/62864/
END:VEVENT
END:VCALENDAR