BEGIN:VCALENDAR
VERSION:2.0
PRODID:-//evangelische-akademie.de/eaf calendar v1.0//DE
BEGIN:VEVENT
UID:9f8684e630c4c30cad7b1f0935cd62ab@evangelische-akademie.de
ORGANIZER;CN=\"Frauke Schneider\":MAILTO:schneider@evangelische-akademie.de
LOCATION:Evangelische Akademie Frankfurt - Frankfurt am Main
DTSTAMP:20260424T062346Z
DTSTART:20250905T110000Z
DTEND:20250907T150000Z
SUMMARY:Team.Bilden
DESCRIPTION:Modul I
URL:https://www.evangelische-akademie.de/kalender/teambilden/63029/
END:VEVENT
END:VCALENDAR