BEGIN:VCALENDAR
VERSION:2.0
PRODID:-//evangelische-akademie.de/eaf calendar v1.0//DE
BEGIN:VEVENT
UID:c922de9e01cba8a4684f6c3471130e4c@evangelische-akademie.de
ORGANIZER;CN=\"Simone Mehler\":MAILTO:mehler@evangelische-akademie.de
LOCATION:Haus am Dom - Frankfurt am Main
DTSTAMP:20260424T180132Z
DTSTART:20250612T170000Z
DTEND:20250612T190000Z
SUMMARY:Nach der regelbasierten Weltordnung
DESCRIPTION:Präsentation des Friedensgutachtens
URL:https://www.evangelische-akademie.de/kalender/nach-der-regelbasierten-weltordnung/63080/
END:VEVENT
END:VCALENDAR