BEGIN:VCALENDAR
VERSION:2.0
PRODID:-//evangelische-akademie.de/eaf calendar v1.0//DE
BEGIN:VEVENT
UID:7221e5c8ec6b08ef6d3f9ff3ce6eb1d1@evangelische-akademie.de
ORGANIZER;CN=\"Claudia Mayer\":MAILTO:mayer@evangelische-akademie.de
LOCATION:Evangelische Akademie Frankfurt - Frankfurt am Main
DTSTAMP:20260425T132327Z
DTSTART:20251027T180000Z
DTEND:20251027T200000Z
SUMMARY:Corona-Effekt: Fokus gesellschaftlicher Zusammenhalt
DESCRIPTION:Radikalisierungspotenziale der Krise
URL:https://www.evangelische-akademie.de/kalender/corona-effekt-fokus-gesellschaftlicher-zusammenhalt/62644/
END:VEVENT
END:VCALENDAR