BEGIN:VCALENDAR
VERSION:2.0
PRODID:-//evangelische-akademie.de/eaf calendar v1.0//DE
BEGIN:VEVENT
UID:a41b3bb3e6b050b6c9067c67f663b915@evangelische-akademie.de
ORGANIZER;CN=\"Simone Mehler\":MAILTO:mehler@evangelische-akademie.de
LOCATION:Evangelische Akademie Frankfurt - Frankfurt am Main
DTSTAMP:20260425T204659Z
DTSTART:20250908T170000Z
DTEND:20250908T190000Z
SUMMARY:Zwischen Himmel und Server
DESCRIPTION:KI im Praxistest
URL:https://www.evangelische-akademie.de/kalender/zwischen-himmel-und-server/63184/
END:VEVENT
END:VCALENDAR