BEGIN:VCALENDAR
VERSION:2.0
PRODID:-//evangelische-akademie.de/eaf calendar v1.0//DE
BEGIN:VEVENT
UID:77ee3bc58ce560b86c2b59363281e914@evangelische-akademie.de
ORGANIZER;CN=\"Ulrike Schrader\":MAILTO:schrader@evangelische-akademie.de
LOCATION:Evangelische Akademie Frankfurt - Frankfurt am Main
DTSTAMP:20260424T125017Z
DTSTART:20250821T173000Z
DTEND:20250821T193000Z
SUMMARY:Stadtsalon (Wohnen)
DESCRIPTION:Über das gute Leben in Frankfurt und Offenbach
URL:https://www.evangelische-akademie.de/kalender/stadtsalon-wohnen/63033/
END:VEVENT
END:VCALENDAR