BEGIN:VCALENDAR
VERSION:2.0
PRODID:-//evangelische-akademie.de/eaf calendar v1.0//DE
BEGIN:VEVENT
UID:9bd5ee6fe55aaeb673025dbcb8f939c1@evangelische-akademie.de
ORGANIZER;CN=\"Frauke Schneider\":MAILTO:schneider@evangelische-akademie.de
LOCATION:Evangelische Akademie Frankfurt - Frankfurt am Main
DTSTAMP:20260425T205124Z
DTSTART:20260202T180000Z
DTEND:20260202T200000Z
SUMMARY:KI verändert alles
DESCRIPTION:Mensch, Maschine, Ethik
URL:https://www.evangelische-akademie.de/kalender/ki-veraendert-alles/63702/
END:VEVENT
END:VCALENDAR