BEGIN:VCALENDAR
VERSION:2.0
PRODID:-//evangelische-akademie.de/eaf calendar v1.0//DE
BEGIN:VEVENT
UID:b73dfe25b4b8714c029b37a6ad3006fa@evangelische-akademie.de
ORGANIZER;CN=\"Natalie Marx\":MAILTO:marx@evangelische-akademie.de
LOCATION:DFF – Deutsches Filminstitut & Filmmuseum - Frankfurt am Main
DTSTAMP:20260425T184434Z
DTSTART:20190514T160000Z
DTEND:20190514T200000Z
SUMMARY:WEIMARER VERHÄLTNISSE
DESCRIPTION:Abwege 
URL:https://www.evangelische-akademie.de/kalender/weimarer-verhaeltnisse-2019-05-14-000000/
END:VEVENT
END:VCALENDAR