BEGIN:VCALENDAR
VERSION:2.0
PRODID:-//evangelische-akademie.de/eaf calendar v1.0//DE
BEGIN:VEVENT
UID:fccb3cdc9acc14a6e70a12f74560c026@evangelische-akademie.de
ORGANIZER;CN=\"Frauke Schneider\":MAILTO:schneider@evangelische-akademie.de
LOCATION:Bildungsstätte Anne Frank e.V. - Frankfurt am Main
DTSTAMP:20260425T104453Z
DTSTART:20190611T070000Z
DTEND:20190611T130000Z
SUMMARY:PEERCOACH FOR EMPOWERMENT - VERTIEFUNG
DESCRIPTION:DISKRIMINIERUNG UND ZIVILCOURAGE
URL:https://www.evangelische-akademie.de/kalender/peercoach-for-empowerment-vertiefung-2019-06-11-000000/
END:VEVENT
END:VCALENDAR