BEGIN:VCALENDAR
VERSION:2.0
PRODID:-//evangelische-akademie.de/eaf calendar v1.0//DE
BEGIN:VEVENT
UID:556f391937dfd4398cbac35e050a2177@evangelische-akademie.de
ORGANIZER;CN=\"Natalie Marx\":MAILTO:marx@evangelische-akademie.de
LOCATION:Mal Seh'n Kino - Frankfurt am Main
DTSTAMP:20260421T083753Z
DTSTART:20190523T173000Z
DTEND:20190523T200000Z
SUMMARY:MIR IST ES EGAL, WENN WIR ALS BARBAREN IN DIE GESCHICHTE EINGEHEN
DESCRIPTION:Film des Monats Mai
URL:https://www.evangelische-akademie.de/kalender/mir-ist-es-egal-wenn-wir-als-barbaren-in-die-geschichte-eingehen-2019-05-23-000000/
END:VEVENT
END:VCALENDAR