BEGIN:VCALENDAR
VERSION:2.0
PRODID:-//evangelische-akademie.de/eaf calendar v1.0//DE
BEGIN:VEVENT
UID:e57c6b956a6521b28495f2886ca0977a@evangelische-akademie.de
ORGANIZER;CN=\"Ulrike Schrader\":MAILTO:schrader@evangelische-akademie.de
LOCATION:Dialogzelt an der Bockenheimer Warte - Frankfurt am Main
DTSTAMP:20260424T150029Z
DTSTART:20190616T153000Z
DTEND:20190616T170000Z
SUMMARY:MEIN GOTT, DEIN GOTT, UNSER GOTT!
DESCRIPTION:
URL:https://www.evangelische-akademie.de/kalender/mein-gott-dein-gott-unser-gott-2019-06-16-000000/
END:VEVENT
END:VCALENDAR