BEGIN:VCALENDAR
VERSION:2.0
PRODID:-//evangelische-akademie.de/eaf calendar v1.0//DE
BEGIN:VEVENT
UID:43fa7f58b7eac7ac872209342e62e8f1@evangelische-akademie.de
ORGANIZER;CN=\"Claudia Mayer\":MAILTO:mayer@evangelische-akademie.de
LOCATION:Evangelische Akademie Frankfurt - Frankfurt am Main
DTSTAMP:20260425T030840Z
DTSTART:20191112T173000Z
DTEND:20191112T191500Z
SUMMARY:WAS ICH ALS ANGEHÖRIGE/R EINES PATIENTEN HILFREICHES TUN KANN
DESCRIPTION:
URL:https://www.evangelische-akademie.de/kalender/was-ich-als-angehoerige-r-eines-patienten-hilfreiches-tun-kann-2019-11-12-000000-1/
END:VEVENT
END:VCALENDAR