BEGIN:VCALENDAR
VERSION:2.0
PRODID:-//evangelische-akademie.de/eaf calendar v1.0//DE
BEGIN:VEVENT
UID:301ad0e3bd5cb1627a2044908a42fdc2@evangelische-akademie.de
ORGANIZER;CN=\"Natalie Marx\":MAILTO:marx@evangelische-akademie.de
LOCATION:Mal Seh'n Kino - Frankfurt am Main
DTSTAMP:20260419T150631Z
DTSTART:20191121T183000Z
DTEND:20191121T210000Z
SUMMARY:BIS DANN, MEIN SOHN
DESCRIPTION:Film des Monats November
URL:https://www.evangelische-akademie.de/kalender/bis-dann-mein-sohn-2019-11-21-000000/
END:VEVENT
END:VCALENDAR