BEGIN:VCALENDAR
VERSION:2.0
PRODID:-//evangelische-akademie.de/eaf calendar v1.0//DE
BEGIN:VEVENT
UID:5ec91aac30eae62f4140325d09b9afd0@evangelische-akademie.de
ORGANIZER;CN=\"Karin Weintz\":MAILTO:weintz@evangelische-akademie.de
LOCATION:Evangelische Akademie Frankfurt - Frankfurt am Main
DTSTAMP:20260425T203920Z
DTSTART:20200623T170000Z
DTEND:20200623T183000Z
SUMMARY:GOTT „UND“ DAS BÖSE DENKEN
DESCRIPTION:EIN MISSVERSTÄNDNIS?
URL:https://www.evangelische-akademie.de/kalender/gott-und-das-boese-denken-2020-06-23-000000/
END:VEVENT
END:VCALENDAR