BEGIN:VCALENDAR
VERSION:2.0
PRODID:-//evangelische-akademie.de/eaf calendar v1.0//DE
BEGIN:VEVENT
UID:1fc214004c9481e4c8073e85323bfd4b@evangelische-akademie.de
ORGANIZER;CN=\"Natalie Marx\":MAILTO:marx@evangelische-akademie.de
LOCATION:Mal Seh'n Kino - Frankfurt am Main
DTSTAMP:20260421T084025Z
DTSTART:20200102T183000Z
DTEND:20200102T210000Z
SUMMARY:DIE SEHNSUCHT DER SCHWESTERN GUSMÃO
DESCRIPTION:Film des Monats Dezember
URL:https://www.evangelische-akademie.de/kalender/die-sehnsucht-der-schwestern-gusmao-2020-01-02-000000/
END:VEVENT
END:VCALENDAR