BEGIN:VCALENDAR
VERSION:2.0
PRODID:-//evangelische-akademie.de/eaf calendar v1.0//DE
BEGIN:VEVENT
UID:ca8155f4d27f205953f9d3d7974bdd70@evangelische-akademie.de
ORGANIZER;CN=\"Ulrike Schrader\":MAILTO:schrader@evangelische-akademie.de
LOCATION:Evangelische Akademie Frankfurt - Frankfurt am Main
DTSTAMP:20260421T100134Z
DTSTART:20200217T180000Z
DTEND:20200217T200000Z
SUMMARY:GERECHTER FRIEDE FÜR AFRIKA?
DESCRIPTION:DER KIRCHLICHE FRIEDENSBEITRAG HEUTE
URL:https://www.evangelische-akademie.de/kalender/gerechter-friede-fuer-afrika-2020-02-17-000000/
END:VEVENT
END:VCALENDAR