BEGIN:VCALENDAR
VERSION:2.0
PRODID:-//evangelische-akademie.de/eaf calendar v1.0//DE
BEGIN:VEVENT
UID:49c9adb18e44be0711a94e827042f630@evangelische-akademie.de
ORGANIZER;CN=\"Ulrike Schrader\":MAILTO:schrader@evangelische-akademie.de
LOCATION:Martin-Niemöller-Haus - Schmitten
DTSTAMP:20260424T194925Z
DTSTART:20200602T073000Z
DTEND:20200603T123000Z
SUMMARY:„NUR WER FÜR DIE JUDEN SCHREIT …“
DESCRIPTION:DIETRICH BONHOEFFER UND DAS JUDENTUM
URL:https://www.evangelische-akademie.de/kalender/nur-wer-fuer-die-juden-schreit-2020-06-02-000000/
END:VEVENT
END:VCALENDAR