BEGIN:VCALENDAR
VERSION:2.0
PRODID:-//evangelische-akademie.de/eaf calendar v1.0//DE
BEGIN:VEVENT
UID:22fb0cee7e1f3bde58293de743871417@evangelische-akademie.de
ORGANIZER;CN=\"Ulrike Schrader\":MAILTO:schrader@evangelische-akademie.de
LOCATION:Evangelische Akademie Frankfurt - Frankfurt am Main
DTSTAMP:20260426T001657Z
DTSTART:20200511T170000Z
DTEND:20200511T190000Z
SUMMARY:BEDINGUNGSLOSES GRUNDEINKOMMEN 
DESCRIPTION:EIN NEUES ARBEITSVERSTÄNDNIS?
URL:https://www.evangelische-akademie.de/kalender/bedingungsloses-grundeinkommen-2020-05-11-000000/
END:VEVENT
END:VCALENDAR