BEGIN:VCALENDAR
VERSION:2.0
PRODID:-//evangelische-akademie.de/eaf calendar v1.0//DE
BEGIN:VEVENT
UID:aeb3135b436aa55373822c010763dd54@evangelische-akademie.de
ORGANIZER;CN=\"Ulrike Schrader\":MAILTO:schrader@evangelische-akademie.de
LOCATION:Evangelische Akademie Frankfurt - Frankfurt am Main
DTSTAMP:20260425T103932Z
DTSTART:20200625T170000Z
DTEND:20200625T190000Z
SUMMARY:KLIMAKRIEGE
DESCRIPTION:WIE LÄSST SICH FRIEDEN NACHHALTIG SICHERN?
URL:https://www.evangelische-akademie.de/kalender/klimakriege-2020-06-25-000000/
END:VEVENT
END:VCALENDAR