BEGIN:VCALENDAR
VERSION:2.0
PRODID:-//evangelische-akademie.de/eaf calendar v1.0//DE
BEGIN:VEVENT
UID:43feaeeecd7b2fe2ae2e26d917b6477d@evangelische-akademie.de
ORGANIZER;CN=\"Natalie Marx\":MAILTO:marx@evangelische-akademie.de
LOCATION:Mal Seh'n Kino - Frankfurt am Main
DTSTAMP:20260421T041854Z
DTSTART:20200123T190000Z
DTEND:20200123T210000Z
SUMMARY:DIE WÜTENDEN
DESCRIPTION:Film des Monats Januar
URL:https://www.evangelische-akademie.de/kalender/die-wuetenden-2020-01-23-000000/
END:VEVENT
END:VCALENDAR