BEGIN:VCALENDAR
VERSION:2.0
PRODID:-//evangelische-akademie.de/eaf calendar v1.0//DE
BEGIN:VEVENT
UID:7504adad8bb96320eb3afdd4df6e1f60@evangelische-akademie.de
ORGANIZER;CN=\"Ulrike Schrader\":MAILTO:schrader@evangelische-akademie.de
LOCATION:Evangelische Akademie Frankfurt - Frankfurt am Main
DTSTAMP:20260424T104506Z
DTSTART:20200606T110000Z
DTEND:20200606T120000Z
SUMMARY:WENN DAS BETEN SICH LOHNEN WÜRDE
DESCRIPTION:KONTAKTE MIT DER EWIGKEIT
URL:https://www.evangelische-akademie.de/kalender/wenn-das-beten-sich-lohnen-wuerde-2020-06-06-000000/
END:VEVENT
END:VCALENDAR