BEGIN:VCALENDAR
VERSION:2.0
PRODID:-//evangelische-akademie.de/eaf calendar v1.0//DE
BEGIN:VEVENT
UID:3e89ebdb49f712c7d90d1b39e348bbbf@evangelische-akademie.de
ORGANIZER;CN=\"N.N.\":MAILTO:Info@evangelische-akademie.de
LOCATION:Evangelische Akademie Frankfurt - Frankfurt am Main
DTSTAMP:20260424T124917Z
DTSTART:20200506T070000Z
DTEND:20200508T200000Z
SUMMARY:FILMTAGE:
DESCRIPTION:GLOBALE PERSPEKTIVEN
URL:https://www.evangelische-akademie.de/kalender/filmtage-2020-05-06-000000/
END:VEVENT
END:VCALENDAR