BEGIN:VCALENDAR
VERSION:2.0
PRODID:-//evangelische-akademie.de/eaf calendar v1.0//DE
BEGIN:VEVENT
UID:d045c59a90d7587d8d671b5f5aec4e7c@evangelische-akademie.de
ORGANIZER;CN=\"Frauke Schneider\":MAILTO:schneider@evangelische-akademie.de
LOCATION:Evangelische Akademie Frankfurt - Frankfurt am Main
DTSTAMP:20260423T081743Z
DTSTART:20200604T160000Z
DTEND:20200604T170000Z
SUMMARY:ALLE FÜR ALLE?
DESCRIPTION:#HOMESCHOOLING UND BILDUNGSGERECHTIGKEIT
URL:https://www.evangelische-akademie.de/kalender/alle-fuer-alle-2020-06-04-000000/
END:VEVENT
END:VCALENDAR