BEGIN:VCALENDAR
VERSION:2.0
PRODID:-//evangelische-akademie.de/eaf calendar v1.0//DE
BEGIN:VEVENT
UID:4daa3db355ef2b0e64b472968cb70f0d@evangelische-akademie.de
ORGANIZER;CN=\"Ulrike Schrader\":MAILTO:schrader@evangelische-akademie.de
LOCATION:Evangelische Akademie Frankfurt - Frankfurt am Main
DTSTAMP:20260421T141205Z
DTSTART:20200610T080000Z
DTEND:20200610T100000Z
SUMMARY:„WIR UND IHR“
DESCRIPTION:WENN JUGENDLICHE ALLTAGSRASSISMUS ERLEBEN
URL:https://www.evangelische-akademie.de/kalender/wir-und-ihr-2020-06-10-000000/
END:VEVENT
END:VCALENDAR