BEGIN:VCALENDAR
VERSION:2.0
PRODID:-//evangelische-akademie.de/eaf calendar v1.0//DE
BEGIN:VEVENT
UID:b7892fb3c2f009c65f686f6355c895b5@evangelische-akademie.de
ORGANIZER;CN=\"Karin Weintz\":MAILTO:weintz@evangelische-akademie.de
LOCATION:Evangelische Akademie Frankfurt - Frankfurt am Main
DTSTAMP:20260421T042403Z
DTSTART:20200623T173000Z
DTEND:20200623T190000Z
SUMMARY:CORONA - BERICHTERSTATTUNG ÜBER GRENZEN
DESCRIPTION:VON LIVE-SCHALTEN IM LOCKDOWN UND LÄNDERVERGLEICHEN
URL:https://www.evangelische-akademie.de/kalender/corona-berichterstattung-ueber-grenzen-2020-06-23-000000/
END:VEVENT
END:VCALENDAR