BEGIN:VCALENDAR
VERSION:2.0
PRODID:-//evangelische-akademie.de/eaf calendar v1.0//DE
BEGIN:VEVENT
UID:3cef96dcc9b8035d23f69e30bb19218a@evangelische-akademie.de
ORGANIZER;CN=\"Karin Weintz\":MAILTO:weintz@evangelische-akademie.de
LOCATION:Grimme-Akademie - Marl
DTSTAMP:20260424T062444Z
DTSTART:20211202T083000Z
DTEND:20211202T123000Z
SUMMARY:5. RADIONETZWERKTAG
DESCRIPTION:QUALIFIZIERUNGSANGEBOT
URL:https://www.evangelische-akademie.de/kalender/5-radionetzwerktag/58636/
END:VEVENT
END:VCALENDAR