BEGIN:VCALENDAR
VERSION:2.0
PRODID:-//evangelische-akademie.de/eaf calendar v1.0//DE
BEGIN:VEVENT
UID:d707329bece455a462b58ce00d1194c9@evangelische-akademie.de
ORGANIZER;CN=\"Karin Weintz\":MAILTO:weintz@evangelische-akademie.de
LOCATION:Evangelische Akademie Frankfurt - Frankfurt am Main
DTSTAMP:20260425T030754Z
DTSTART:20201005T173000Z
DTEND:20201005T193000Z
SUMMARY:GLAUBEN IN DER ENTZAUBERTEN WELT
DESCRIPTION:GESPRÄCHSREIHE: SCHAUT HIN - AUF DEM WEG ZUM ÖKT 21
URL:https://www.evangelische-akademie.de/kalender/glauben-in-der-entzauberten-welt-2020-10-05-000000/
END:VEVENT
END:VCALENDAR