BEGIN:VCALENDAR
VERSION:2.0
PRODID:-//evangelische-akademie.de/eaf calendar v1.0//DE
BEGIN:VEVENT
UID:8f468c873a32bb0619eaeb2050ba45d1@evangelische-akademie.de
ORGANIZER;CN=\"Ulrike Schrader\":MAILTO:schrader@evangelische-akademie.de
LOCATION:Evangelische Akademie Frankfurt - Onlineveranstaltung
DTSTAMP:20260421T135548Z
DTSTART:20201104T180000Z
DTEND:20201104T200000Z
SUMMARY:HEILIGE TEXTE
DESCRIPTION:SCHÖPFUNG BEWAHREN - WAS KOSTET UNS DIE ZUKUNFT?
URL:https://www.evangelische-akademie.de/kalender/heilige-texte-2020-11-04-000000/
END:VEVENT
END:VCALENDAR