BEGIN:VCALENDAR
VERSION:2.0
PRODID:-//evangelische-akademie.de/eaf calendar v1.0//DE
BEGIN:VEVENT
UID:cc1aa436277138f61cda703991069eaf@evangelische-akademie.de
ORGANIZER;CN=\"Natalie Marx\":MAILTO:marx@evangelische-akademie.de
LOCATION:Evangelische Akademie Frankfurt - Onlineveranstaltung
DTSTAMP:20260421T082356Z
DTSTART:20201104T170000Z
DTEND:20201104T183000Z
SUMMARY:DIE USA HABEN GEWÄHLT
DESCRIPTION:EINSCHÄTZUNGEN UND ANALYSEN
URL:https://www.evangelische-akademie.de/kalender/die-usa-haben-gewaehlt-2020-11-04-000000/
END:VEVENT
END:VCALENDAR