BEGIN:VCALENDAR
VERSION:2.0
PRODID:-//evangelische-akademie.de/eaf calendar v1.0//DE
BEGIN:VEVENT
UID:fec8d47d412bcbeece3d9128ae855a7a@evangelische-akademie.de
ORGANIZER;CN=\"Karin Weintz\":MAILTO:weintz@evangelische-akademie.de
LOCATION:Evangelische Akademie Frankfurt - Frankfurt am Main
DTSTAMP:20260421T084638Z
DTSTART:20201018T090000Z
DTEND:20201018T114500Z
SUMMARY:KULTURSTADION 2020
DESCRIPTION:BESONDERE FUSSBALLBÜCHER DER SAISON, VORGESTELLT VON AUTOREN
URL:https://www.evangelische-akademie.de/kalender/kulturstadion-2020-2020-10-18-000000/
END:VEVENT
END:VCALENDAR