BEGIN:VCALENDAR
VERSION:2.0
PRODID:-//evangelische-akademie.de/eaf calendar v1.0//DE
BEGIN:VEVENT
UID:54a367d629152b720749e187b3eaa11b@evangelische-akademie.de
ORGANIZER;CN=\"Karin Weintz\":MAILTO:weintz@evangelische-akademie.de
LOCATION:Evangelische Akademie Frankfurt - Frankfurt am Main
DTSTAMP:20260425T131024Z
DTSTART:20201026T180000Z
DTEND:20201026T193000Z
SUMMARY:ZWEIFELN ERLAUBT
DESCRIPTION:AUSTRITTSGRUND NUMMER EINS: DIE KIRCHENSTEUER! ABSCHAFFEN? BEIBEHALTEN? ÄNDERN?
URL:https://www.evangelische-akademie.de/kalender/zweifeln-erlaubt-2020-10-26-000000/
END:VEVENT
END:VCALENDAR