BEGIN:VCALENDAR
VERSION:2.0
PRODID:-//evangelische-akademie.de/eaf calendar v1.0//DE
BEGIN:VEVENT
UID:df6d2338b2b8fce1ec2f6dda0a630eb0@evangelische-akademie.de
ORGANIZER;CN=\"Ulrike Schrader\":MAILTO:schrader@evangelische-akademie.de
LOCATION:Evangelische Akademie Frankfurt - Onlineveranstaltung
DTSTAMP:20260424T105344Z
DTSTART:20201111T180000Z
DTEND:20201111T193000Z
SUMMARY:FILMPREIS GLOBALE PERSPEKTIVEN
DESCRIPTION:WIE KANN DAS UNERZÄHLBARE ERZÄHLBAR WERDEN?
URL:https://www.evangelische-akademie.de/kalender/filmpreis-globale-perspektiven-2020-11-11-000000/
END:VEVENT
END:VCALENDAR