BEGIN:VCALENDAR
VERSION:2.0
PRODID:-//evangelische-akademie.de/eaf calendar v1.0//DE
BEGIN:VEVENT
UID:4fac9ba115140ac4f1c22da82aa0bc7f@evangelische-akademie.de
ORGANIZER;CN=\"Karin Weintz\":MAILTO:weintz@evangelische-akademie.de
LOCATION:Evangelische Akademie Frankfurt - Onlineveranstaltung
DTSTAMP:20260424T062303Z
DTSTART:20201117T183000Z
DTEND:20201117T200000Z
SUMMARY:WO DER „SPIEGEL“ MASSSTÄBE SETZT
DESCRIPTION:NACHRICHTENCHEF STEFAN WEIGEL IM GESPRÄCH MIT WERNER D'INKA
URL:https://www.evangelische-akademie.de/kalender/wo-der-spiegel-massstaebe-setzt-2020-11-17-000000/
END:VEVENT
END:VCALENDAR